BEGIN:VCALENDAR
VERSION:2.0
PRODID:-//ChamberMaster//Event Calendar 2.0//EN
METHOD:PUBLISH
X-PUBLISHED-TTL:P3D
REFRESH-INTERVAL:P3D
CALSCALE:GREGORIAN
BEGIN:VEVENT
DTSTART:20090120T130000Z
DTEND:20090123T220000Z
X-MICROSOFT-CDO-ALLDAYEVENT:FALSE
SUMMARY:NAHB International Builders Show
DESCRIPTION:
X-ALT-DESC;FMTTYPE=text/html:
LOCATION:Las Vegas
UID:e.9596.1501
SEQUENCE:3
DTSTAMP:20260420T075617Z
URL:http://bancffl.memberzone.com/events/details/nahb-international-builders-show-01-20-2009-1501
END:VEVENT

END:VCALENDAR
