BEGIN:VCALENDAR
VERSION:2.0
PRODID:-//ChamberMaster//Event Calendar 2.0//EN
METHOD:PUBLISH
X-PUBLISHED-TTL:P3D
REFRESH-INTERVAL:P3D
CALSCALE:GREGORIAN
BEGIN:VEVENT
DTSTART:20080522T154500Z
DTEND:20080522T170000Z
X-MICROSOFT-CDO-ALLDAYEVENT:FALSE
SUMMARY:Membership Meeting - May 2008
DESCRIPTION:
X-ALT-DESC;FMTTYPE=text/html:
LOCATION:\, FL
UID:e.9596.341
SEQUENCE:3
DTSTAMP:20260420T224408Z
URL:http://bancffl.memberzone.com/events/details/membership-meeting-may-2008-05-22-2008-341
END:VEVENT

END:VCALENDAR
