BEGIN:VCALENDAR
VERSION:2.0
PRODID:-//ChamberMaster//Event Calendar 2.0//EN
METHOD:PUBLISH
X-PUBLISHED-TTL:P3D
REFRESH-INTERVAL:P3D
CALSCALE:GREGORIAN
BEGIN:VEVENT
DTSTART:20090205T170000Z
DTEND:20090205T180000Z
X-MICROSOFT-CDO-ALLDAYEVENT:FALSE
SUMMARY:Media Relations Committee
DESCRIPTION:Committee meeting to discuss various Media Relations issues.
X-ALT-DESC;FMTTYPE=text/html:<p><span style="font-size: 8.5pt\; font-family: Arial\; mso-fareast-font-family: 'Times New Roman'\; mso-ansi-language: EN-US\; mso-fareast-language: EN-US\; mso-bidi-language: AR-SA">Committee meeting to discuss various&nbsp\;Media Relations issues.</span></p>
LOCATION:2217 NW 66th Court Gainesville\, FL 32653
UID:e.9596.1661
SEQUENCE:3
DTSTAMP:20260420T060038Z
URL:http://bancffl.memberzone.com/events/details/media-relations-committee-02-05-2009-1661
END:VEVENT

END:VCALENDAR
