BEGIN:VCALENDAR
VERSION:2.0
PRODID:-//ChamberMaster//Event Calendar 2.0//EN
METHOD:PUBLISH
X-PUBLISHED-TTL:P3D
REFRESH-INTERVAL:P3D
CALSCALE:GREGORIAN
BEGIN:VEVENT
DTSTART:20090414T210000Z
DTEND:20090414T220000Z
X-MICROSOFT-CDO-ALLDAYEVENT:FALSE
SUMMARY:Master Trades Committee
DESCRIPTION:\\r\\n The Master Trades Committee administers and determines policies for the apprenticeship program. The members are contractors and employees in the trades of electrical\, plumbing\, carpentry and heating & air conditioning. Meetings are reserved for members and their guests.  For more information\, please contact the BANCF office at (352) 372-5649.\\r\\n\\r
X-ALT-DESC;FMTTYPE=text/html:<p><span style="font-size: 13pt" /></p>\\r\\n<p>&nbsp\;<big><span style="font-size: small"><span style="font-family: Tahoma"><span style=""><span style="">The Master Trades Committee administers and determines policies for the apprenticeship program. The members are contractors and employees in the trades of electrical\, plumbing\, carpentry and heating &amp\; air conditioning. Meetings are reserved for members and their guests.&nbsp\; For more information\, please contact the BANCF office at (352) 372-5649.</span></span></span></span></big><span style="font-size: small"><span style="font-family: Tahoma"><span style="" /></span></span><span style="font-family: Tahoma"><span style="" /></span><span style="font-size: small"><span style="font-family: Arial"><span /><span /></span></span><span style="font-family: Arial"><span /></span><span style="font-size: small"><font size="4"><span /></font></span><font size="4"><span style="font-size: 13pt" /></font></p>\\r\\n<o:p></o:p>\\r\\n<p><font size="1"><span style="font-size: 9pt\; font-family: Arial"><o:p></o:p></span></font></p>
LOCATION:Santa Fe College 3000 NW 83rd St Gainesville\, FL 32606
UID:e.9596.1583
SEQUENCE:3
DTSTAMP:20260420T024405Z
URL:http://bancffl.memberzone.com/events/details/master-trades-committee-04-14-2009-1583
END:VEVENT

END:VCALENDAR
