BEGIN:VCALENDAR
VERSION:2.0
PRODID:-//ChamberMaster//Event Calendar 2.0//EN
METHOD:PUBLISH
X-PUBLISHED-TTL:P3D
REFRESH-INTERVAL:P3D
CALSCALE:GREGORIAN
BEGIN:VEVENT
DTSTART:20090223T210000Z
DTEND:20090223T230000Z
X-MICROSOFT-CDO-ALLDAYEVENT:FALSE
SUMMARY:Master Trades Committee
DESCRIPTION:\\r\\n The Master Trades Committee administers and determines policies for the apprenticeship program. The members are contractors and employees in the trades of electrical\, plumbing\, carpentry and heating & air conditioning.  Meetings are reserved for members and their guests.  For more information\, please contact the BANCF office at (352) 372-5649.
X-ALT-DESC;FMTTYPE=text/html:<p><span style="font-size: 13pt" /></p>\\r\\n<p>&nbsp\;<font face="Times New Roman" size="4"><span style="font-size: 13pt">The Master Trades Committee</span></font> <font size="4"><span style="font-size: 13pt">administers and determines policies for the apprenticeship program. The members are contractors and employees in the trades of electrical\, plumbing\, carpentry and heating &amp\; air conditioning.&nbsp\; <span style="font-size: 12pt\; font-family: Tahoma\; mso-fareast-font-family: &rsquo\;Times New Roman&rsquo\;\; mso-ansi-language: EN-US\; mso-fareast-language: EN-US\; mso-bidi-language: AR-SA">Meetings are reserved for members and their guests.&nbsp\; For more information\, please contact the BANCF office at (352) 372-5649.</span><o:p></o:p></span></font></p>
LOCATION:2217 NW 66th Court Gainesville\, FL 32653
UID:e.9596.1581
SEQUENCE:3
DTSTAMP:20260420T060157Z
URL:http://bancffl.memberzone.com/events/details/master-trades-committee-02-23-2009-1581
END:VEVENT

END:VCALENDAR
