BEGIN:VCALENDAR
VERSION:2.0
PRODID:-//ChamberMaster//Event Calendar 2.0//EN
METHOD:PUBLISH
X-PUBLISHED-TTL:P3D
REFRESH-INTERVAL:P3D
CALSCALE:GREGORIAN
BEGIN:VEVENT
DTSTART:20090903T160000Z
DTEND:20090903T170000Z
X-MICROSOFT-CDO-ALLDAYEVENT:FALSE
SUMMARY:Horseshoe Committee Meeting
DESCRIPTION:Committee Meetings are held to plan the Horseshoe Mixer and Tournament to be held on November 19\, 2009.  If you'd like to be a part of the committee\, please contact the BANCF office at (352) 372-5649 or beth@bancf.com.
X-ALT-DESC;FMTTYPE=text/html:<p class="MsoSubtitle" style="margin: 0in 0in 0pt"><font size="3"><font face="Times New Roman"><span style="font-weight: normal">Committee Meetings are held to plan the&nbsp\;</span><strong>Horseshoe Mixer and Tourn<span id="fck_dom_range_temp_1251903881343_633" /><span id="fck_dom_range_temp_1251903881343_432" />ament&nbsp\;</strong>to be held on November 19\, 2009<strong>.&nbsp\; </strong>If you&rsquo\;d like to be a part of the committee\, please contact the BANCF office at (352) 372-5649 or <a href="mailto:beth@bancf.com">beth@bancf.com</a>.&nbsp\; </font></font></p>
LOCATION:Builders Association of North Central Floirda 2217 NW 66th Court Gainesville\, FL 32653
UID:e.9596.2101
SEQUENCE:3
DTSTAMP:20260419T181227Z
URL:http://bancffl.memberzone.com/events/details/horseshoe-committee-meeting-09-03-2009-2101
END:VEVENT

END:VCALENDAR
