BEGIN:VCALENDAR
VERSION:2.0
PRODID:-//ChamberMaster//Event Calendar 2.0//EN
METHOD:PUBLISH
X-PUBLISHED-TTL:P3D
REFRESH-INTERVAL:P3D
CALSCALE:GREGORIAN
BEGIN:VEVENT
DTSTART:20091019T154500Z
DTEND:20091019T170000Z
X-MICROSOFT-CDO-ALLDAYEVENT:FALSE
SUMMARY:Gainesville Regional Utilities Liaison
DESCRIPTION:Meetings are reserved for members and their guests.  For more information\, please contact the BANCF office at (352) 372-5649.
X-ALT-DESC;FMTTYPE=text/html:<p><font face="Tahoma" size="3"><span style="font-size: 12pt\; font-family: Tahoma\; mso-fareast-font-family: '&rsquo\;Times New Roman&rsquo\;'">Meetings are reserved for members and their guests.&nbsp\; For more information\, please contact the BANCF office at (352) 372-5649.<o:p></o:p></span></font></p>
LOCATION:\, FL
UID:e.9596.1483
SEQUENCE:3
DTSTAMP:20260419T162156Z
URL:http://bancffl.memberzone.com/events/details/gainesville-regional-utilities-liaison-10-19-2009-1483
END:VEVENT

END:VCALENDAR
