BEGIN:VCALENDAR
VERSION:2.0
PRODID:-//ChamberMaster//Event Calendar 2.0//EN
METHOD:PUBLISH
X-PUBLISHED-TTL:P3D
REFRESH-INTERVAL:P3D
CALSCALE:GREGORIAN
BEGIN:VEVENT
DTSTART:20090305T170000Z
DTEND:20090305T180000Z
X-MICROSOFT-CDO-ALLDAYEVENT:FALSE
SUMMARY:Fishing Committee Meeting
DESCRIPTION:Committee Meetings are held to plan the Family Fun Fishing Trip 2009\, to be held May 1-3\, Plantation Inn\, Crystal River.
X-ALT-DESC;FMTTYPE=text/html:<p class="MsoSubtitle" style="margin: 0in 0in 0pt"><font size="3"><font face="Times New Roman"><span style="font-weight: normal">Committee Meetings are held to plan the </span><strong>Family Fun Fishing Trip 2009</strong><span style="font-weight: normal">\, to be held May 1-3\, Plantation Inn\, <st1:place w:st="on"><st1:placename w:st="on">Crystal</st1:placename> <st1:placename w:st="on">River</st1:placename></st1:place>.<o:p></o:p></span></font></font></p>
LOCATION:Builders Association of North Central Florida 2217 NW 66th Court Gainesville\, FL 32653
UID:e.9596.1721
SEQUENCE:3
DTSTAMP:20260420T042233Z
URL:http://bancffl.memberzone.com/events/details/fishing-committee-meeting-03-05-2009-1721
END:VEVENT

END:VCALENDAR
