BEGIN:VCALENDAR
VERSION:2.0
PRODID:-//ChamberMaster//Event Calendar 2.0//EN
METHOD:PUBLISH
X-PUBLISHED-TTL:P3D
REFRESH-INTERVAL:P3D
CALSCALE:GREGORIAN
BEGIN:VEVENT
DTSTART:20091028T120000Z
DTEND:20091031T210000Z
X-MICROSOFT-CDO-ALLDAYEVENT:FALSE
SUMMARY:FHBA Fall Conference
DESCRIPTION:
X-ALT-DESC;FMTTYPE=text/html:
LOCATION:St. Petersburg
UID:e.9596.1521
SEQUENCE:3
DTSTAMP:20260419T143945Z
URL:http://bancffl.memberzone.com/events/details/fhba-fall-conference-10-28-2009-1521
END:VEVENT

END:VCALENDAR
