BEGIN:VCALENDAR
VERSION:2.0
PRODID:-//ChamberMaster//Event Calendar 2.0//EN
METHOD:PUBLISH
X-PUBLISHED-TTL:P3D
REFRESH-INTERVAL:P3D
CALSCALE:GREGORIAN
BEGIN:VEVENT
DTSTART:20080915T154500Z
DTEND:20080915T170000Z
X-MICROSOFT-CDO-ALLDAYEVENT:FALSE
SUMMARY:County Codes - September 2008
DESCRIPTION:
X-ALT-DESC;FMTTYPE=text/html:
LOCATION:\, FL
UID:e.9596.901
SEQUENCE:3
DTSTAMP:20260420T161808Z
URL:http://bancffl.memberzone.com/events/details/county-codes-september-2008-09-15-2008-901
END:VEVENT

END:VCALENDAR
