BEGIN:VCALENDAR
VERSION:2.0
PRODID:-//ChamberMaster//Event Calendar 2.0//EN
METHOD:PUBLISH
X-PUBLISHED-TTL:P3D
REFRESH-INTERVAL:P3D
CALSCALE:GREGORIAN
BEGIN:VEVENT
DTSTART:20081110T164500Z
DTEND:20081110T180000Z
X-MICROSOFT-CDO-ALLDAYEVENT:FALSE
SUMMARY:County Codes - November 2008
DESCRIPTION:
X-ALT-DESC;FMTTYPE=text/html:
LOCATION:\, FL
UID:e.9596.1101
SEQUENCE:3
DTSTAMP:20260420T125108Z
URL:http://bancffl.memberzone.com/events/details/county-codes-november-2008-11-10-2008-1101
END:VEVENT

END:VCALENDAR
