BEGIN:VCALENDAR
VERSION:2.0
PRODID:-//ChamberMaster//Event Calendar 2.0//EN
METHOD:PUBLISH
X-PUBLISHED-TTL:P3D
REFRESH-INTERVAL:P3D
CALSCALE:GREGORIAN
BEGIN:VEVENT
DTSTART:20080714T154500Z
DTEND:20080714T170000Z
X-MICROSOFT-CDO-ALLDAYEVENT:FALSE
SUMMARY:County Codes - July 2008
DESCRIPTION:
X-ALT-DESC;FMTTYPE=text/html:
LOCATION:\, FL
UID:e.9596.701
SEQUENCE:3
DTSTAMP:20260420T210128Z
URL:http://bancffl.memberzone.com/events/details/county-codes-july-2008-07-14-2008-701
END:VEVENT

END:VCALENDAR
