BEGIN:VCALENDAR
VERSION:2.0
PRODID:-//ChamberMaster//Event Calendar 2.0//EN
METHOD:PUBLISH
X-PUBLISHED-TTL:P3D
REFRESH-INTERVAL:P3D
CALSCALE:GREGORIAN
BEGIN:VEVENT
DTSTART:20080421T154500Z
DTEND:20080421T170000Z
X-MICROSOFT-CDO-ALLDAYEVENT:FALSE
SUMMARY:County Codes - April 2008
DESCRIPTION:
X-ALT-DESC;FMTTYPE=text/html:
LOCATION:\, FL
UID:e.9596.421
SEQUENCE:3
DTSTAMP:20260421T020726Z
URL:http://bancffl.memberzone.com/events/details/county-codes-april-2008-04-21-2008-421
END:VEVENT

END:VCALENDAR
