BEGIN:VCALENDAR
VERSION:2.0
PRODID:-//ChamberMaster//Event Calendar 2.0//EN
METHOD:PUBLISH
X-PUBLISHED-TTL:P3D
REFRESH-INTERVAL:P3D
CALSCALE:GREGORIAN
BEGIN:VEVENT
DTSTART:20080826T040000Z
DTEND:20080826T040000Z
X-MICROSOFT-CDO-ALLDAYEVENT:FALSE
SUMMARY:Continuing Education Part 2 - August 2008
DESCRIPTION:
X-ALT-DESC;FMTTYPE=text/html:
LOCATION:\, FL
UID:e.9596.801
SEQUENCE:3
DTSTAMP:20260420T180105Z
URL:http://bancffl.memberzone.com/events/details/continuing-education-part-2-august-2008-08-26-2008-801
END:VEVENT

END:VCALENDAR
