BEGIN:VCALENDAR
VERSION:2.0
PRODID:-//ChamberMaster//Event Calendar 2.0//EN
METHOD:PUBLISH
X-PUBLISHED-TTL:P3D
REFRESH-INTERVAL:P3D
CALSCALE:GREGORIAN
BEGIN:VEVENT
DTSTART:20080624T040000Z
DTEND:20080624T040000Z
X-MICROSOFT-CDO-ALLDAYEVENT:FALSE
SUMMARY:Continuing Education Part 1 - June 2008
DESCRIPTION:
X-ALT-DESC;FMTTYPE=text/html:
LOCATION:\, FL
UID:e.9596.601
SEQUENCE:3
DTSTAMP:20260420T210238Z
URL:http://bancffl.memberzone.com/events/details/continuing-education-part-1-june-2008-06-24-2008-601
END:VEVENT

END:VCALENDAR
