BEGIN:VCALENDAR
VERSION:2.0
PRODID:-//ChamberMaster//Event Calendar 2.0//EN
METHOD:PUBLISH
X-PUBLISHED-TTL:P3D
REFRESH-INTERVAL:P3D
CALSCALE:GREGORIAN
BEGIN:VEVENT
DTSTART:20091020T160000Z
DTEND:20091020T170000Z
X-MICROSOFT-CDO-ALLDAYEVENT:FALSE
SUMMARY:Community Relations Committee
DESCRIPTION:Committee meeting to discuss various Community Relations issues.
X-ALT-DESC;FMTTYPE=text/html:<p>Committee meeting to discuss various Community Relations issues.</p>
LOCATION:2217 NW 66th Court Gainesville\, FL 32653
UID:e.9596.2143
SEQUENCE:3
DTSTAMP:20260419T162033Z
URL:http://bancffl.memberzone.com/events/details/community-relations-committee-10-20-2009-2143
END:VEVENT

END:VCALENDAR
