BEGIN:VCALENDAR
VERSION:2.0
PRODID:-//ChamberMaster//Event Calendar 2.0//EN
METHOD:PUBLISH
X-PUBLISHED-TTL:P3D
REFRESH-INTERVAL:P3D
CALSCALE:GREGORIAN
BEGIN:VEVENT
DTSTART:20080924T154500Z
DTEND:20080924T170000Z
X-MICROSOFT-CDO-ALLDAYEVENT:FALSE
SUMMARY:Commercial Builders Council - September 2008
DESCRIPTION:
X-ALT-DESC;FMTTYPE=text/html:
LOCATION:\, FL
UID:e.9596.961
SEQUENCE:3
DTSTAMP:20260420T162011Z
URL:http://bancffl.memberzone.com/events/details/commercial-builders-council-september-2008-09-24-2008-961
END:VEVENT

END:VCALENDAR
