BEGIN:VCALENDAR
VERSION:2.0
PRODID:-//ChamberMaster//Event Calendar 2.0//EN
METHOD:PUBLISH
X-PUBLISHED-TTL:P3D
REFRESH-INTERVAL:P3D
CALSCALE:GREGORIAN
BEGIN:VEVENT
DTSTART:20080716T154500Z
DTEND:20080716T170000Z
X-MICROSOFT-CDO-ALLDAYEVENT:FALSE
SUMMARY:Commercial Builders Council - July 2008
DESCRIPTION:
X-ALT-DESC;FMTTYPE=text/html:
LOCATION:\, FL
UID:e.9596.721
SEQUENCE:3
DTSTAMP:20260420T193147Z
URL:http://bancffl.memberzone.com/events/details/commercial-builders-council-july-2008-07-16-2008-721
END:VEVENT

END:VCALENDAR
