BEGIN:VCALENDAR
VERSION:2.0
PRODID:-//ChamberMaster//Event Calendar 2.0//EN
METHOD:PUBLISH
X-PUBLISHED-TTL:P3D
REFRESH-INTERVAL:P3D
CALSCALE:GREGORIAN
BEGIN:VEVENT
DTSTART:20080416T154500Z
DTEND:20080416T170000Z
X-MICROSOFT-CDO-ALLDAYEVENT:FALSE
SUMMARY:City Codes - April 2008
DESCRIPTION:
X-ALT-DESC;FMTTYPE=text/html:
LOCATION:\, FL
UID:e.9596.401
SEQUENCE:3
DTSTAMP:20260421T002956Z
URL:http://bancffl.memberzone.com/events/details/city-codes-april-2008-04-16-2008-401
END:VEVENT

END:VCALENDAR
