BEGIN:VCALENDAR
VERSION:2.0
PRODID:-//ChamberMaster//Event Calendar 2.0//EN
METHOD:PUBLISH
X-PUBLISHED-TTL:P3D
REFRESH-INTERVAL:P3D
CALSCALE:GREGORIAN
BEGIN:VEVENT
DTSTART:20090225T160000Z
DTEND:20090225T183000Z
X-MICROSOFT-CDO-ALLDAYEVENT:FALSE
SUMMARY:Building Code Workshop
DESCRIPTION:The Workshop will include a Summary of the Significant Changes to the Florida Building Code - Residential\, including the latest Glitch changes approved in December 2008.  \\r\\n \\r\\nFor our Commercial Contractors\, there will be an additional 30 minutes of significant changes that apply specifically to commercial construction.  \\r\\n \\r\\nPresented exclusively for BANCF Members by Jack Glenn\, FHBA Director of Technical Services.\\r\\n \\r\\n$25 per person includes pizza.  We expect a large crowd so SPACE will be limited!  \\r\\n \\r\\nThe new Building Code will go into effect on March 1\, 2009 so take this opportunity to find out what has changed.\n\\r\\n\n\\r\\nNot a member and interested in attending?  Contact the BANCF office at (352) 372-5649 for membership information.\\r
X-ALT-DESC;FMTTYPE=text/html:<p class="MsoNormal" style="margin: 0in 0in 0pt"><span style="font-size: 13.5pt\; font-family: Tahoma">The Workshop will include a&nbsp\;Summary of the&nbsp\;Significant Changes to the Florida Building Code - Residential\, including the latest Glitch changes approved in December 2008.&nbsp\; </span><o:p></o:p></p>\\r\\n<p class="MsoNormal" style="margin: 0in 0in 0pt"><font size="3"><font face="Times New Roman">&nbsp\;<o:p></o:p></font></font></p>\\r\\n<p class="MsoNormal" style="margin: 0in 0in 0pt"><span style="font-size: 13.5pt\; font-family: Tahoma">For our Commercial Contractors\, there will be an additional 30 minutes of significant changes that apply specifically to commercial construction.&nbsp\;&nbsp\;</span><o:p></o:p></p>\\r\\n<p class="MsoNormal" style="margin: 0in 0in 0pt"><span style="font-family: Tahoma"><font size="3">&nbsp\;<o:p></o:p></font></span></p>\\r\\n<p class="MsoNormal" style="margin: 0in 0in 0pt"><span style="font-size: 13.5pt\; font-family: Tahoma">Presented exclusively for BANCF Members by Jack Glenn\, FHBA Director of Technical Services.</span><span style="font-family: Tahoma"><o:p></o:p></span></p>\\r\\n<p class="MsoNormal" style="margin: 0in 0in 0pt"><span style="font-family: Tahoma"><font size="3">&nbsp\;<o:p></o:p></font></span></p>\\r\\n<p class="MsoNormal" style="margin: 0in 0in 0pt"><span style="font-size: 13.5pt\; font-family: Tahoma">$25 per person includes pizza.&nbsp\; We expect a large crowd so SPACE&nbsp\;will be limited!&nbsp\; </span><o:p></o:p></p>\\r\\n<p class="MsoNormal" style="margin: 0in 0in 0pt"><font size="3"><font face="Times New Roman">&nbsp\;<o:p></o:p></font></font></p>\\r\\n<p class="MsoNormal" style="margin: 0in 0in 0pt"><span style="font-size: 13.5pt\; font-family: Tahoma">The new Building Code will go into effect on March 1\, 2009 so take this opportunity to find out what has changed.<br />\\r\\n<br />\\r\\n</span><span style="font-size: 13.5pt\; font-family: Tahoma">Not a member and interested in attending?&nbsp\; Contact the BANCF office at (352) 372-5649 for membership information.</span></p>\\r\\n<p>&nbsp\;</p>
LOCATION:2217 NW 66th Court Gainesville\, FL 32653
UID:e.9596.1621
SEQUENCE:3
DTSTAMP:20260420T055647Z
URL:http://bancffl.memberzone.com/events/details/building-code-workshop-02-25-2009-1621
END:VEVENT

END:VCALENDAR
