BEGIN:VCALENDAR
VERSION:2.0
PRODID:-//ChamberMaster//Event Calendar 2.0//EN
METHOD:PUBLISH
X-PUBLISHED-TTL:P3D
REFRESH-INTERVAL:P3D
CALSCALE:GREGORIAN
BEGIN:VEVENT
DTSTART:20090506T210000Z
DTEND:20090506T230000Z
X-MICROSOFT-CDO-ALLDAYEVENT:FALSE
SUMMARY:Board of Directors
DESCRIPTION:\\r\\nMeetings are reserved for members and their guests.  For more information\, please contact the BANCF office at (352) 372-5649.\\r
X-ALT-DESC;FMTTYPE=text/html:<p><font face="Tahoma" size="3"><span style="font-size: 12pt\; font-family: Tahoma\; mso-fareast-font-family: &rsquo\;&rsquo\;Times New Roman&rsquo\;&rsquo\;">\\r\\n<p><font face="Tahoma" size="3"><span style="font-size: 12pt\; font-family: Tahoma\; mso-fareast-font-family: &rsquo\;&rsquo\;Times New Roman&rsquo\;&rsquo\;">Meetings are reserved for members and their guests.&nbsp\; For more information\, please contact the BANCF office at (352) 372-5649.<o:p></o:p></span></font></p>\\r\\n</span></font></p>
LOCATION:
UID:e.9596.1385
SEQUENCE:3
DTSTAMP:20260420T011839Z
URL:http://bancffl.memberzone.com/events/details/board-of-directors-05-06-2009-1385
END:VEVENT

END:VCALENDAR
