BEGIN:VCALENDAR
VERSION:2.0
PRODID:-//ChamberMaster//Event Calendar 2.0//EN
METHOD:PUBLISH
X-PUBLISHED-TTL:P3D
REFRESH-INTERVAL:P3D
CALSCALE:GREGORIAN
BEGIN:VEVENT
DTSTART:20090401T210000Z
DTEND:20090401T230000Z
X-MICROSOFT-CDO-ALLDAYEVENT:FALSE
SUMMARY:Board of Directors
DESCRIPTION:Meetings are reserved for members and their guests.  For more information\, please contact the BANCF office at (352) 372-5649.
X-ALT-DESC;FMTTYPE=text/html:<p><font face="Arial" size="1"><span style="font-size: 9pt\; font-family: Arial">Meetings are reserved for members and their guests.&nbsp\; For more information\, please contact the BANCF office at (352) 372-5649.<o:p></o:p></span></font></p>
LOCATION:\, FL
UID:e.9596.1384
SEQUENCE:3
DTSTAMP:20260420T025115Z
URL:http://bancffl.memberzone.com/events/details/board-of-directors-04-01-2009-1384
END:VEVENT

END:VCALENDAR
