BEGIN:VCALENDAR
VERSION:2.0
PRODID:-//ChamberMaster//Event Calendar 2.0//EN
METHOD:PUBLISH
X-PUBLISHED-TTL:P3D
REFRESH-INTERVAL:P3D
CALSCALE:GREGORIAN
BEGIN:VEVENT
DTSTART:20081016T213000Z
DTEND:20081017T020000Z
X-MICROSOFT-CDO-ALLDAYEVENT:FALSE
SUMMARY:BANCF Horseshoe Mixer - Attendee
DESCRIPTION:
X-ALT-DESC;FMTTYPE=text/html:
LOCATION:\, FL
UID:e.9596.1001
SEQUENCE:3
DTSTAMP:20260420T142326Z
URL:http://bancffl.memberzone.com/events/details/bancf-horseshoe-mixer-attendee-10-16-2008-1001
END:VEVENT

END:VCALENDAR
